BEGIN:VCALENDAR
VERSION:2.0
PRODID:-//JIHO - ECPv6.0.6.2//NONSGML v1.0//EN
CALSCALE:GREGORIAN
METHOD:PUBLISH
X-ORIGINAL-URL:https://jihoweb.org
X-WR-CALDESC:Events for JIHO
REFRESH-INTERVAL;VALUE=DURATION:PT1H
X-Robots-Tag:noindex
X-PUBLISHED-TTL:PT1H
BEGIN:VTIMEZONE
TZID:America/Chicago
BEGIN:DAYLIGHT
TZOFFSETFROM:-0600
TZOFFSETTO:-0500
TZNAME:CDT
DTSTART:20250309T080000
END:DAYLIGHT
BEGIN:STANDARD
TZOFFSETFROM:-0500
TZOFFSETTO:-0600
TZNAME:CST
DTSTART:20251102T070000
END:STANDARD
END:VTIMEZONE
BEGIN:VEVENT
DTSTART;VALUE=DATE:20251001
DTEND;VALUE=DATE:20251002
DTSTAMP:20260425T095428
CREATED:20251219T235711Z
LAST-MODIFIED:20251220T003428Z
UID:10000008-1759276800-1759363199@jihoweb.org
SUMMARY:Exam 6
DESCRIPTION:Ciudad de México\, México.
URL:https://jihoweb.org/event/exam-6/
LOCATION:Exam 8
CATEGORIES:Upcoming Exam Dates
END:VEVENT
BEGIN:VEVENT
DTSTART;VALUE=DATE:20251002
DTEND;VALUE=DATE:20251003
DTSTAMP:20260425T095428
CREATED:20251220T001504Z
LAST-MODIFIED:20251220T002523Z
UID:10000009-1759363200-1759449599@jihoweb.org
SUMMARY:Exam 7
DESCRIPTION:Córdoba\, Argentina.
URL:https://jihoweb.org/event/exam-7/
LOCATION:Exam 8
CATEGORIES:Upcoming Exam Dates
END:VEVENT
BEGIN:VEVENT
DTSTART;VALUE=DATE:20251003
DTEND;VALUE=DATE:20251004
DTSTAMP:20260425T095428
CREATED:20251220T002108Z
LAST-MODIFIED:20251220T002312Z
UID:10000010-1759449600-1759535999@jihoweb.org
SUMMARY:Exam 8
DESCRIPTION:Medellín\, Colombia.
URL:https://jihoweb.org/event/exam-8/
LOCATION:Exam 8
CATEGORIES:Upcoming Exam Dates
END:VEVENT
END:VCALENDAR